BEGIN:VCALENDAR
VERSION:2.0
PRODID:-//WhenKickoff//Match Reminder//EN
BEGIN:VEVENT
UID:wk-541028-15@whenkickoff.com
DTSTAMP:20260420T024032Z
DTSTART:20260117T150000Z
DTEND:20260117T170000Z
SUMMARY:Preston North End FC vs Derby County FC
DESCRIPTION:WhenKickoff reminder for Preston North End FC vs Derby County FC
URL:https://whenkickoff.com/en/match/preston-north-end-fc-vs-derby-county-fc-541028/
BEGIN:VALARM
TRIGGER:-PT15M
ACTION:DISPLAY
DESCRIPTION:Match starts soon
END:VALARM
END:VEVENT
END:VCALENDAR
