BEGIN:VCALENDAR
VERSION:2.0
PRODID:-//WhenKickoff//Match Reminder//EN
BEGIN:VEVENT
UID:wk-541027-15@whenkickoff.com
DTSTAMP:20260420T023948Z
DTSTART:20260117T150000Z
DTEND:20260117T170000Z
SUMMARY:Oxford United FC vs Bristol City FC
DESCRIPTION:WhenKickoff reminder for Oxford United FC vs Bristol City FC
URL:https://whenkickoff.com/en/match/oxford-united-fc-vs-bristol-city-fc-541027/
BEGIN:VALARM
TRIGGER:-PT15M
ACTION:DISPLAY
DESCRIPTION:Match starts soon
END:VALARM
END:VEVENT
END:VCALENDAR
