BEGIN:VCALENDAR
VERSION:2.0
PRODID:-//WhenKickoff//Match Reminder//EN
BEGIN:VEVENT
UID:wk-541026-15@whenkickoff.com
DTSTAMP:20260420T024031Z
DTSTART:20260117T123000Z
DTEND:20260117T143000Z
SUMMARY:Ipswich Town FC vs Blackburn Rovers FC
DESCRIPTION:WhenKickoff reminder for Ipswich Town FC vs Blackburn Rovers FC
URL:https://whenkickoff.com/en/match/ipswich-town-fc-vs-blackburn-rovers-fc-541026/
BEGIN:VALARM
TRIGGER:-PT15M
ACTION:DISPLAY
DESCRIPTION:Match starts soon
END:VALARM
END:VEVENT
END:VCALENDAR
