BEGIN:VCALENDAR
VERSION:2.0
PRODID:-//WhenKickoff//Match Reminder//EN
BEGIN:VEVENT
UID:wk-541025-15@whenkickoff.com
DTSTAMP:20260420T024030Z
DTSTART:20260117T123000Z
DTEND:20260117T143000Z
SUMMARY:Coventry City FC vs Leicester City FC
DESCRIPTION:WhenKickoff reminder for Coventry City FC vs Leicester City FC
URL:https://whenkickoff.com/en/match/coventry-city-fc-vs-leicester-city-fc-541025/
BEGIN:VALARM
TRIGGER:-PT15M
ACTION:DISPLAY
DESCRIPTION:Match starts soon
END:VALARM
END:VEVENT
END:VCALENDAR
