BEGIN:VCALENDAR
VERSION:2.0
PRODID:-//WhenKickoff//Match Reminder//EN
BEGIN:VEVENT
UID:wk-541024-15@whenkickoff.com
DTSTAMP:20260420T023949Z
DTSTART:20260117T150000Z
DTEND:20260117T170000Z
SUMMARY:Charlton Athletic FC vs Sheffield United FC
DESCRIPTION:WhenKickoff reminder for Charlton Athletic FC vs Sheffield United FC
URL:https://whenkickoff.com/en/match/charlton-athletic-fc-vs-sheffield-united-fc-541024/
BEGIN:VALARM
TRIGGER:-PT15M
ACTION:DISPLAY
DESCRIPTION:Match starts soon
END:VALARM
END:VEVENT
END:VCALENDAR
