BEGIN:VCALENDAR
VERSION:2.0
PRODID:-//WhenKickoff//Match Reminder//EN
BEGIN:VEVENT
UID:wk-541023-15@whenkickoff.com
DTSTAMP:20260420T121923Z
DTSTART:20260203T194500Z
DTEND:20260203T214500Z
SUMMARY:Sheffield United FC vs Oxford United FC
DESCRIPTION:WhenKickoff reminder for Sheffield United FC vs Oxford United FC
URL:https://whenkickoff.com/en/match/sheffield-united-fc-vs-oxford-united-fc-541023/
BEGIN:VALARM
TRIGGER:-PT15M
ACTION:DISPLAY
DESCRIPTION:Match starts soon
END:VALARM
END:VEVENT
END:VCALENDAR
