BEGIN:VCALENDAR
VERSION:2.0
PRODID:-//WhenKickoff//Match Reminder//EN
BEGIN:VEVENT
UID:wk-541018-15@whenkickoff.com
DTSTAMP:20260420T180631Z
DTSTART:20260104T150000Z
DTEND:20260104T170000Z
SUMMARY:Middlesbrough FC vs Southampton FC
DESCRIPTION:WhenKickoff reminder for Middlesbrough FC vs Southampton FC
URL:https://whenkickoff.com/en/match/middlesbrough-fc-vs-southampton-fc-541018/
BEGIN:VALARM
TRIGGER:-PT15M
ACTION:DISPLAY
DESCRIPTION:Match starts soon
END:VALARM
END:VEVENT
END:VCALENDAR
