BEGIN:VCALENDAR
VERSION:2.0
PRODID:-//WhenKickoff//Match Reminder//EN
BEGIN:VEVENT
UID:wk-541016-15@whenkickoff.com
DTSTAMP:20260420T124540Z
DTSTART:20260203T194500Z
DTEND:20260203T214500Z
SUMMARY:Hull City AFC vs Watford FC
DESCRIPTION:WhenKickoff reminder for Hull City AFC vs Watford FC
URL:https://whenkickoff.com/en/match/hull-city-afc-vs-watford-fc-541016/
BEGIN:VALARM
TRIGGER:-PT15M
ACTION:DISPLAY
DESCRIPTION:Match starts soon
END:VALARM
END:VEVENT
END:VCALENDAR
