BEGIN:VCALENDAR
VERSION:2.0
PRODID:-//WhenKickoff//Match Reminder//EN
BEGIN:VEVENT
UID:wk-541011-15@whenkickoff.com
DTSTAMP:20260420T234554Z
DTSTART:20260101T150000Z
DTEND:20260101T170000Z
SUMMARY:Watford FC vs Birmingham City FC
DESCRIPTION:WhenKickoff reminder for Watford FC vs Birmingham City FC
URL:https://whenkickoff.com/en/match/watford-fc-vs-birmingham-city-fc-541011/
BEGIN:VALARM
TRIGGER:-PT15M
ACTION:DISPLAY
DESCRIPTION:Match starts soon
END:VALARM
END:VEVENT
END:VCALENDAR
