BEGIN:VCALENDAR
VERSION:2.0
PRODID:-//WhenKickoff//Match Reminder//EN
BEGIN:VEVENT
UID:wk-541010-15@whenkickoff.com
DTSTAMP:20260420T214011Z
DTSTART:20260101T150000Z
DTEND:20260101T170000Z
SUMMARY:Swansea City AFC vs West Bromwich Albion FC
DESCRIPTION:WhenKickoff reminder for Swansea City AFC vs West Bromwich Albion FC
URL:https://whenkickoff.com/en/match/swansea-city-afc-vs-west-bromwich-albion-fc-541010/
BEGIN:VALARM
TRIGGER:-PT15M
ACTION:DISPLAY
DESCRIPTION:Match starts soon
END:VALARM
END:VEVENT
END:VCALENDAR
