BEGIN:VCALENDAR
VERSION:2.0
PRODID:-//WhenKickoff//Match Reminder//EN
BEGIN:VEVENT
UID:wk-541009-15@whenkickoff.com
DTSTAMP:20260420T201031Z
DTSTART:20260101T150000Z
DTEND:20260101T170000Z
SUMMARY:Southampton FC vs Millwall FC
DESCRIPTION:WhenKickoff reminder for Southampton FC vs Millwall FC
URL:https://whenkickoff.com/en/match/southampton-fc-vs-millwall-fc-541009/
BEGIN:VALARM
TRIGGER:-PT15M
ACTION:DISPLAY
DESCRIPTION:Match starts soon
END:VALARM
END:VEVENT
END:VCALENDAR
