BEGIN:VCALENDAR
VERSION:2.0
PRODID:-//WhenKickoff//Match Reminder//EN
BEGIN:VEVENT
UID:wk-541008-15@whenkickoff.com
DTSTAMP:20260420T234443Z
DTSTART:20260101T173000Z
DTEND:20260101T193000Z
SUMMARY:Sheffield United FC vs Leicester City FC
DESCRIPTION:WhenKickoff reminder for Sheffield United FC vs Leicester City FC
URL:https://whenkickoff.com/en/match/sheffield-united-fc-vs-leicester-city-fc-541008/
BEGIN:VALARM
TRIGGER:-PT15M
ACTION:DISPLAY
DESCRIPTION:Match starts soon
END:VALARM
END:VEVENT
END:VCALENDAR
