BEGIN:VCALENDAR
VERSION:2.0
PRODID:-//WhenKickoff//Match Reminder//EN
BEGIN:VEVENT
UID:wk-541007-15@whenkickoff.com
DTSTAMP:20260420T214011Z
DTSTART:20260101T150000Z
DTEND:20260101T170000Z
SUMMARY:Queens Park Rangers FC vs Norwich City FC
DESCRIPTION:WhenKickoff reminder for Queens Park Rangers FC vs Norwich City FC
URL:https://whenkickoff.com/en/match/queens-park-rangers-fc-vs-norwich-city-fc-541007/
BEGIN:VALARM
TRIGGER:-PT15M
ACTION:DISPLAY
DESCRIPTION:Match starts soon
END:VALARM
END:VEVENT
END:VCALENDAR
