BEGIN:VCALENDAR
VERSION:2.0
PRODID:-//WhenKickoff//Match Reminder//EN
BEGIN:VEVENT
UID:wk-541006-15@whenkickoff.com
DTSTAMP:20260420T214024Z
DTSTART:20260101T150000Z
DTEND:20260101T170000Z
SUMMARY:Preston North End FC vs Sheffield Wednesday FC
DESCRIPTION:WhenKickoff reminder for Preston North End FC vs Sheffield Wednesday FC
URL:https://whenkickoff.com/en/match/preston-north-end-fc-vs-sheffield-wednesday-fc-541006/
BEGIN:VALARM
TRIGGER:-PT15M
ACTION:DISPLAY
DESCRIPTION:Match starts soon
END:VALARM
END:VEVENT
END:VCALENDAR
