BEGIN:VCALENDAR
VERSION:2.0
PRODID:-//WhenKickoff//Match Reminder//EN
BEGIN:VEVENT
UID:wk-541005-15@whenkickoff.com
DTSTAMP:20260420T214024Z
DTSTART:20260101T150000Z
DTEND:20260101T170000Z
SUMMARY:Ipswich Town FC vs Oxford United FC
DESCRIPTION:WhenKickoff reminder for Ipswich Town FC vs Oxford United FC
URL:https://whenkickoff.com/en/match/ipswich-town-fc-vs-oxford-united-fc-541005/
BEGIN:VALARM
TRIGGER:-PT15M
ACTION:DISPLAY
DESCRIPTION:Match starts soon
END:VALARM
END:VEVENT
END:VCALENDAR
