BEGIN:VCALENDAR
VERSION:2.0
PRODID:-//WhenKickoff//Match Reminder//EN
BEGIN:VEVENT
UID:wk-541004-15@whenkickoff.com
DTSTAMP:20260420T214009Z
DTSTART:20260101T150000Z
DTEND:20260101T170000Z
SUMMARY:Hull City AFC vs Stoke City FC
DESCRIPTION:WhenKickoff reminder for Hull City AFC vs Stoke City FC
URL:https://whenkickoff.com/en/match/hull-city-afc-vs-stoke-city-fc-541004/
BEGIN:VALARM
TRIGGER:-PT15M
ACTION:DISPLAY
DESCRIPTION:Match starts soon
END:VALARM
END:VEVENT
END:VCALENDAR
