BEGIN:VCALENDAR
VERSION:2.0
PRODID:-//WhenKickoff//Match Reminder//EN
BEGIN:VEVENT
UID:wk-541003-15@whenkickoff.com
DTSTAMP:20260420T214010Z
DTSTART:20260101T150000Z
DTEND:20260101T170000Z
SUMMARY:Derby County FC vs Middlesbrough FC
DESCRIPTION:WhenKickoff reminder for Derby County FC vs Middlesbrough FC
URL:https://whenkickoff.com/en/match/derby-county-fc-vs-middlesbrough-fc-541003/
BEGIN:VALARM
TRIGGER:-PT15M
ACTION:DISPLAY
DESCRIPTION:Match starts soon
END:VALARM
END:VEVENT
END:VCALENDAR
