BEGIN:VCALENDAR
VERSION:2.0
PRODID:-//WhenKickoff//Match Reminder//EN
BEGIN:VEVENT
UID:wk-541002-15@whenkickoff.com
DTSTAMP:20260420T214010Z
DTSTART:20260101T150000Z
DTEND:20260101T170000Z
SUMMARY:Charlton Athletic FC vs Coventry City FC
DESCRIPTION:WhenKickoff reminder for Charlton Athletic FC vs Coventry City FC
URL:https://whenkickoff.com/en/match/charlton-athletic-fc-vs-coventry-city-fc-541002/
BEGIN:VALARM
TRIGGER:-PT15M
ACTION:DISPLAY
DESCRIPTION:Match starts soon
END:VALARM
END:VEVENT
END:VCALENDAR
