BEGIN:VCALENDAR
VERSION:2.0
PRODID:-//WhenKickoff//Match Reminder//EN
BEGIN:VEVENT
UID:wk-541001-15@whenkickoff.com
DTSTAMP:20260420T214009Z
DTSTART:20260101T150000Z
DTEND:20260101T170000Z
SUMMARY:Bristol City FC vs Portsmouth FC
DESCRIPTION:WhenKickoff reminder for Bristol City FC vs Portsmouth FC
URL:https://whenkickoff.com/en/match/bristol-city-fc-vs-portsmouth-fc-541001/
BEGIN:VALARM
TRIGGER:-PT15M
ACTION:DISPLAY
DESCRIPTION:Match starts soon
END:VALARM
END:VEVENT
END:VCALENDAR
