BEGIN:VCALENDAR
VERSION:2.0
PRODID:-//WhenKickoff//Match Reminder//EN
BEGIN:VEVENT
UID:wk-541000-15@whenkickoff.com
DTSTAMP:20260420T214009Z
DTSTART:20260101T123000Z
DTEND:20260101T143000Z
SUMMARY:Blackburn Rovers FC vs Wrexham AFC
DESCRIPTION:WhenKickoff reminder for Blackburn Rovers FC vs Wrexham AFC
URL:https://whenkickoff.com/en/match/blackburn-rovers-fc-vs-wrexham-afc-541000/
BEGIN:VALARM
TRIGGER:-PT15M
ACTION:DISPLAY
DESCRIPTION:Match starts soon
END:VALARM
END:VEVENT
END:VCALENDAR
