BEGIN:VCALENDAR
VERSION:2.0
PRODID:-//WhenKickoff//Match Reminder//EN
BEGIN:VEVENT
UID:wk-540999-15@whenkickoff.com
DTSTAMP:20260421T001240Z
DTSTART:20251229T194500Z
DTEND:20251229T214500Z
SUMMARY:Wrexham AFC vs Preston North End FC
DESCRIPTION:WhenKickoff reminder for Wrexham AFC vs Preston North End FC
URL:https://whenkickoff.com/en/match/wrexham-afc-vs-preston-north-end-fc-540999/
BEGIN:VALARM
TRIGGER:-PT15M
ACTION:DISPLAY
DESCRIPTION:Match starts soon
END:VALARM
END:VEVENT
END:VCALENDAR
