BEGIN:VCALENDAR
VERSION:2.0
PRODID:-//WhenKickoff//Match Reminder//EN
BEGIN:VEVENT
UID:wk-540998-15@whenkickoff.com
DTSTAMP:20260420T222044Z
DTSTART:20251229T194500Z
DTEND:20251229T214500Z
SUMMARY:West Bromwich Albion FC vs Queens Park Rangers FC
DESCRIPTION:WhenKickoff reminder for West Bromwich Albion FC vs Queens Park Rangers FC
URL:https://whenkickoff.com/en/match/west-bromwich-albion-fc-vs-queens-park-rangers-fc-540998/
BEGIN:VALARM
TRIGGER:-PT15M
ACTION:DISPLAY
DESCRIPTION:Match starts soon
END:VALARM
END:VEVENT
END:VCALENDAR
