BEGIN:VCALENDAR
VERSION:2.0
PRODID:-//WhenKickoff//Match Reminder//EN
BEGIN:VEVENT
UID:wk-540997-15@whenkickoff.com
DTSTAMP:20260420T221911Z
DTSTART:20251229T194500Z
DTEND:20251229T214500Z
SUMMARY:Stoke City FC vs Sheffield United FC
DESCRIPTION:WhenKickoff reminder for Stoke City FC vs Sheffield United FC
URL:https://whenkickoff.com/en/match/stoke-city-fc-vs-sheffield-united-fc-540997/
BEGIN:VALARM
TRIGGER:-PT15M
ACTION:DISPLAY
DESCRIPTION:Match starts soon
END:VALARM
END:VEVENT
END:VCALENDAR
