BEGIN:VCALENDAR
VERSION:2.0
PRODID:-//WhenKickoff//Match Reminder//EN
BEGIN:VEVENT
UID:wk-540996-15@whenkickoff.com
DTSTAMP:20260420T222045Z
DTSTART:20251229T194500Z
DTEND:20251229T214500Z
SUMMARY:Sheffield Wednesday FC vs Blackburn Rovers FC
DESCRIPTION:WhenKickoff reminder for Sheffield Wednesday FC vs Blackburn Rovers FC
URL:https://whenkickoff.com/en/match/sheffield-wednesday-fc-vs-blackburn-rovers-fc-540996/
BEGIN:VALARM
TRIGGER:-PT15M
ACTION:DISPLAY
DESCRIPTION:Match starts soon
END:VALARM
END:VEVENT
END:VCALENDAR
