BEGIN:VCALENDAR
VERSION:2.0
PRODID:-//WhenKickoff//Match Reminder//EN
BEGIN:VEVENT
UID:wk-540995-15@whenkickoff.com
DTSTAMP:20260420T221933Z
DTSTART:20251229T194500Z
DTEND:20251229T214500Z
SUMMARY:Portsmouth FC vs Charlton Athletic FC
DESCRIPTION:WhenKickoff reminder for Portsmouth FC vs Charlton Athletic FC
URL:https://whenkickoff.com/en/match/portsmouth-fc-vs-charlton-athletic-fc-540995/
BEGIN:VALARM
TRIGGER:-PT15M
ACTION:DISPLAY
DESCRIPTION:Match starts soon
END:VALARM
END:VEVENT
END:VCALENDAR
