BEGIN:VCALENDAR
VERSION:2.0
PRODID:-//WhenKickoff//Match Reminder//EN
BEGIN:VEVENT
UID:wk-540994-15@whenkickoff.com
DTSTAMP:20260420T221933Z
DTSTART:20251229T194500Z
DTEND:20251229T214500Z
SUMMARY:Oxford United FC vs Swansea City AFC
DESCRIPTION:WhenKickoff reminder for Oxford United FC vs Swansea City AFC
URL:https://whenkickoff.com/en/match/oxford-united-fc-vs-swansea-city-afc-540994/
BEGIN:VALARM
TRIGGER:-PT15M
ACTION:DISPLAY
DESCRIPTION:Match starts soon
END:VALARM
END:VEVENT
END:VCALENDAR
