BEGIN:VCALENDAR
VERSION:2.0
PRODID:-//WhenKickoff//Match Reminder//EN
BEGIN:VEVENT
UID:wk-540993-15@whenkickoff.com
DTSTAMP:20260420T221911Z
DTSTART:20251229T194500Z
DTEND:20251229T214500Z
SUMMARY:Norwich City FC vs Watford FC
DESCRIPTION:WhenKickoff reminder for Norwich City FC vs Watford FC
URL:https://whenkickoff.com/en/match/norwich-city-fc-vs-watford-fc-540993/
BEGIN:VALARM
TRIGGER:-PT15M
ACTION:DISPLAY
DESCRIPTION:Match starts soon
END:VALARM
END:VEVENT
END:VCALENDAR
