BEGIN:VCALENDAR
VERSION:2.0
PRODID:-//WhenKickoff//Match Reminder//EN
BEGIN:VEVENT
UID:wk-540992-15@whenkickoff.com
DTSTAMP:20260420T221912Z
DTSTART:20251229T194500Z
DTEND:20251229T214500Z
SUMMARY:Millwall FC vs Bristol City FC
DESCRIPTION:WhenKickoff reminder for Millwall FC vs Bristol City FC
URL:https://whenkickoff.com/en/match/millwall-fc-vs-bristol-city-fc-540992/
BEGIN:VALARM
TRIGGER:-PT15M
ACTION:DISPLAY
DESCRIPTION:Match starts soon
END:VALARM
END:VEVENT
END:VCALENDAR
