BEGIN:VCALENDAR
VERSION:2.0
PRODID:-//WhenKickoff//Match Reminder//EN
BEGIN:VEVENT
UID:wk-540991-15@whenkickoff.com
DTSTAMP:20260420T222101Z
DTSTART:20251229T194500Z
DTEND:20251229T214500Z
SUMMARY:Middlesbrough FC vs Hull City AFC
DESCRIPTION:WhenKickoff reminder for Middlesbrough FC vs Hull City AFC
URL:https://whenkickoff.com/en/match/middlesbrough-fc-vs-hull-city-afc-540991/
BEGIN:VALARM
TRIGGER:-PT15M
ACTION:DISPLAY
DESCRIPTION:Match starts soon
END:VALARM
END:VEVENT
END:VCALENDAR
