BEGIN:VCALENDAR
VERSION:2.0
PRODID:-//WhenKickoff//Match Reminder//EN
BEGIN:VEVENT
UID:wk-540990-15@whenkickoff.com
DTSTAMP:20260420T222044Z
DTSTART:20251229T194500Z
DTEND:20251229T214500Z
SUMMARY:Leicester City FC vs Derby County FC
DESCRIPTION:WhenKickoff reminder for Leicester City FC vs Derby County FC
URL:https://whenkickoff.com/en/match/leicester-city-fc-vs-derby-county-fc-540990/
BEGIN:VALARM
TRIGGER:-PT15M
ACTION:DISPLAY
DESCRIPTION:Match starts soon
END:VALARM
END:VEVENT
END:VCALENDAR
