BEGIN:VCALENDAR
VERSION:2.0
PRODID:-//WhenKickoff//Match Reminder//EN
BEGIN:VEVENT
UID:wk-540989-15@whenkickoff.com
DTSTAMP:20260420T221933Z
DTSTART:20251229T180000Z
DTEND:20251229T200000Z
SUMMARY:Coventry City FC vs Ipswich Town FC
DESCRIPTION:WhenKickoff reminder for Coventry City FC vs Ipswich Town FC
URL:https://whenkickoff.com/en/match/coventry-city-fc-vs-ipswich-town-fc-540989/
BEGIN:VALARM
TRIGGER:-PT15M
ACTION:DISPLAY
DESCRIPTION:Match starts soon
END:VALARM
END:VEVENT
END:VCALENDAR
