BEGIN:VCALENDAR
VERSION:2.0
PRODID:-//WhenKickoff//Match Reminder//EN
BEGIN:VEVENT
UID:wk-540988-15@whenkickoff.com
DTSTAMP:20260421T001240Z
DTSTART:20251229T201500Z
DTEND:20251229T221500Z
SUMMARY:Birmingham City FC vs Southampton FC
DESCRIPTION:WhenKickoff reminder for Birmingham City FC vs Southampton FC
URL:https://whenkickoff.com/en/match/birmingham-city-fc-vs-southampton-fc-540988/
BEGIN:VALARM
TRIGGER:-PT15M
ACTION:DISPLAY
DESCRIPTION:Match starts soon
END:VALARM
END:VEVENT
END:VCALENDAR
