BEGIN:VCALENDAR
VERSION:2.0
PRODID:-//WhenKickoff//Match Reminder//EN
BEGIN:VEVENT
UID:wk-540987-15@whenkickoff.com
DTSTAMP:20260421T020756Z
DTSTART:20251226T173000Z
DTEND:20251226T193000Z
SUMMARY:Wrexham AFC vs Sheffield United FC
DESCRIPTION:WhenKickoff reminder for Wrexham AFC vs Sheffield United FC
URL:https://whenkickoff.com/en/match/wrexham-afc-vs-sheffield-united-fc-540987/
BEGIN:VALARM
TRIGGER:-PT15M
ACTION:DISPLAY
DESCRIPTION:Match starts soon
END:VALARM
END:VEVENT
END:VCALENDAR
