BEGIN:VCALENDAR
VERSION:2.0
PRODID:-//WhenKickoff//Match Reminder//EN
BEGIN:VEVENT
UID:wk-540986-15@whenkickoff.com
DTSTAMP:20260421T022353Z
DTSTART:20251226T150000Z
DTEND:20251226T170000Z
SUMMARY:West Bromwich Albion FC vs Bristol City FC
DESCRIPTION:WhenKickoff reminder for West Bromwich Albion FC vs Bristol City FC
URL:https://whenkickoff.com/en/match/west-bromwich-albion-fc-vs-bristol-city-fc-540986/
BEGIN:VALARM
TRIGGER:-PT15M
ACTION:DISPLAY
DESCRIPTION:Match starts soon
END:VALARM
END:VEVENT
END:VCALENDAR
