BEGIN:VCALENDAR
VERSION:2.0
PRODID:-//WhenKickoff//Match Reminder//EN
BEGIN:VEVENT
UID:wk-540984-15@whenkickoff.com
DTSTAMP:20260421T001208Z
DTSTART:20251226T150000Z
DTEND:20251226T170000Z
SUMMARY:Sheffield Wednesday FC vs Hull City AFC
DESCRIPTION:WhenKickoff reminder for Sheffield Wednesday FC vs Hull City AFC
URL:https://whenkickoff.com/en/match/sheffield-wednesday-fc-vs-hull-city-afc-540984/
BEGIN:VALARM
TRIGGER:-PT15M
ACTION:DISPLAY
DESCRIPTION:Match starts soon
END:VALARM
END:VEVENT
END:VCALENDAR
