BEGIN:VCALENDAR
VERSION:2.0
PRODID:-//WhenKickoff//Match Reminder//EN
BEGIN:VEVENT
UID:wk-540983-15@whenkickoff.com
DTSTAMP:20260421T003505Z
DTSTART:20251226T150000Z
DTEND:20251226T170000Z
SUMMARY:Portsmouth FC vs Queens Park Rangers FC
DESCRIPTION:WhenKickoff reminder for Portsmouth FC vs Queens Park Rangers FC
URL:https://whenkickoff.com/en/match/portsmouth-fc-vs-queens-park-rangers-fc-540983/
BEGIN:VALARM
TRIGGER:-PT15M
ACTION:DISPLAY
DESCRIPTION:Match starts soon
END:VALARM
END:VEVENT
END:VCALENDAR
