BEGIN:VCALENDAR
VERSION:2.0
PRODID:-//WhenKickoff//Match Reminder//EN
BEGIN:VEVENT
UID:wk-540982-15@whenkickoff.com
DTSTAMP:20260421T001201Z
DTSTART:20251226T150000Z
DTEND:20251226T170000Z
SUMMARY:Oxford United FC vs Southampton FC
DESCRIPTION:WhenKickoff reminder for Oxford United FC vs Southampton FC
URL:https://whenkickoff.com/en/match/oxford-united-fc-vs-southampton-fc-540982/
BEGIN:VALARM
TRIGGER:-PT15M
ACTION:DISPLAY
DESCRIPTION:Match starts soon
END:VALARM
END:VEVENT
END:VCALENDAR
