BEGIN:VCALENDAR
VERSION:2.0
PRODID:-//WhenKickoff//Match Reminder//EN
BEGIN:VEVENT
UID:wk-540981-15@whenkickoff.com
DTSTAMP:20260421T001241Z
DTSTART:20251226T150000Z
DTEND:20251226T170000Z
SUMMARY:Norwich City FC vs Charlton Athletic FC
DESCRIPTION:WhenKickoff reminder for Norwich City FC vs Charlton Athletic FC
URL:https://whenkickoff.com/en/match/norwich-city-fc-vs-charlton-athletic-fc-540981/
BEGIN:VALARM
TRIGGER:-PT15M
ACTION:DISPLAY
DESCRIPTION:Match starts soon
END:VALARM
END:VEVENT
END:VCALENDAR
