BEGIN:VCALENDAR
VERSION:2.0
PRODID:-//WhenKickoff//Match Reminder//EN
BEGIN:VEVENT
UID:wk-540980-15@whenkickoff.com
DTSTAMP:20260421T001209Z
DTSTART:20251226T130000Z
DTEND:20251226T150000Z
SUMMARY:Millwall FC vs Ipswich Town FC
DESCRIPTION:WhenKickoff reminder for Millwall FC vs Ipswich Town FC
URL:https://whenkickoff.com/en/match/millwall-fc-vs-ipswich-town-fc-540980/
BEGIN:VALARM
TRIGGER:-PT15M
ACTION:DISPLAY
DESCRIPTION:Match starts soon
END:VALARM
END:VEVENT
END:VCALENDAR
