BEGIN:VCALENDAR
VERSION:2.0
PRODID:-//WhenKickoff//Match Reminder//EN
BEGIN:VEVENT
UID:wk-540979-15@whenkickoff.com
DTSTAMP:20260421T001201Z
DTSTART:20251226T150000Z
DTEND:20251226T170000Z
SUMMARY:Middlesbrough FC vs Blackburn Rovers FC
DESCRIPTION:WhenKickoff reminder for Middlesbrough FC vs Blackburn Rovers FC
URL:https://whenkickoff.com/en/match/middlesbrough-fc-vs-blackburn-rovers-fc-540979/
BEGIN:VALARM
TRIGGER:-PT15M
ACTION:DISPLAY
DESCRIPTION:Match starts soon
END:VALARM
END:VEVENT
END:VCALENDAR
