BEGIN:VCALENDAR
VERSION:2.0
PRODID:-//WhenKickoff//Match Reminder//EN
BEGIN:VEVENT
UID:wk-540978-15@whenkickoff.com
DTSTAMP:20260421T001208Z
DTSTART:20251226T150000Z
DTEND:20251226T170000Z
SUMMARY:Leicester City FC vs Watford FC
DESCRIPTION:WhenKickoff reminder for Leicester City FC vs Watford FC
URL:https://whenkickoff.com/en/match/leicester-city-fc-vs-watford-fc-540978/
BEGIN:VALARM
TRIGGER:-PT15M
ACTION:DISPLAY
DESCRIPTION:Match starts soon
END:VALARM
END:VEVENT
END:VCALENDAR
