BEGIN:VCALENDAR
VERSION:2.0
PRODID:-//WhenKickoff//Match Reminder//EN
BEGIN:VEVENT
UID:wk-540976-15@whenkickoff.com
DTSTAMP:20260421T001202Z
DTSTART:20251226T123000Z
DTEND:20251226T143000Z
SUMMARY:Birmingham City FC vs Derby County FC
DESCRIPTION:WhenKickoff reminder for Birmingham City FC vs Derby County FC
URL:https://whenkickoff.com/en/match/birmingham-city-fc-vs-derby-county-fc-540976/
BEGIN:VALARM
TRIGGER:-PT15M
ACTION:DISPLAY
DESCRIPTION:Match starts soon
END:VALARM
END:VEVENT
END:VCALENDAR
