BEGIN:VCALENDAR
VERSION:2.0
PRODID:-//WhenKickoff//Match Reminder//EN
BEGIN:VEVENT
UID:wk-540928-15@whenkickoff.com
DTSTAMP:20260420T120239Z
DTSTART:20260203T194500Z
DTEND:20260203T214500Z
SUMMARY:Blackburn Rovers FC vs Sheffield Wednesday FC
DESCRIPTION:WhenKickoff reminder for Blackburn Rovers FC vs Sheffield Wednesday FC
URL:https://whenkickoff.com/en/match/blackburn-rovers-fc-vs-sheffield-wednesday-fc-540928/
BEGIN:VALARM
TRIGGER:-PT15M
ACTION:DISPLAY
DESCRIPTION:Match starts soon
END:VALARM
END:VEVENT
END:VCALENDAR
