BEGIN:VCALENDAR
VERSION:2.0
PRODID:-//WhenKickoff//Match Reminder//EN
BEGIN:VEVENT
UID:wk-540696-15@whenkickoff.com
DTSTAMP:20260424T115952Z
DTSTART:20260508T183000Z
DTEND:20260508T203000Z
SUMMARY:Borussia Dortmund vs Eintracht Frankfurt
DESCRIPTION:WhenKickoff reminder for Borussia Dortmund vs Eintracht Frankfurt
URL:https://whenkickoff.com/en/match/borussia-dortmund-vs-eintracht-frankfurt-540696/
BEGIN:VALARM
TRIGGER:-PT15M
ACTION:DISPLAY
DESCRIPTION:Match starts soon
END:VALARM
END:VEVENT
END:VCALENDAR
