BEGIN:VCALENDAR
VERSION:2.0
PRODID:-//WhenKickoff//Match Reminder//EN
BEGIN:VEVENT
UID:wk-540692-15@whenkickoff.com
DTSTAMP:20260419T145824Z
DTSTART:20260502T133000Z
DTEND:20260502T153000Z
SUMMARY:1. FC Union Berlin vs 1. FC Köln
DESCRIPTION:WhenKickoff reminder for 1. FC Union Berlin vs 1. FC Köln
URL:https://whenkickoff.com/en/match/1-fc-union-berlin-vs-1-fc-k-ln-540692/
BEGIN:VALARM
TRIGGER:-PT15M
ACTION:DISPLAY
DESCRIPTION:Match starts soon
END:VALARM
END:VEVENT
END:VCALENDAR
