BEGIN:VCALENDAR
VERSION:2.0
PRODID:-//WhenKickoff//Match Reminder//EN
BEGIN:VEVENT
UID:wk-540690-15@whenkickoff.com
DTSTAMP:20260419T143733Z
DTSTART:20260502T133000Z
DTEND:20260502T153000Z
SUMMARY:SV Werder Bremen vs FC Augsburg
DESCRIPTION:WhenKickoff reminder for SV Werder Bremen vs FC Augsburg
URL:https://whenkickoff.com/en/match/sv-werder-bremen-vs-fc-augsburg-540690/
BEGIN:VALARM
TRIGGER:-PT15M
ACTION:DISPLAY
DESCRIPTION:Match starts soon
END:VALARM
END:VEVENT
END:VCALENDAR
