BEGIN:VCALENDAR
VERSION:2.0
PRODID:-//WhenKickoff//Match Reminder//EN
BEGIN:VEVENT
UID:wk-540688-15@whenkickoff.com
DTSTAMP:20260419T143732Z
DTSTART:20260502T133000Z
DTEND:20260502T153000Z
SUMMARY:TSG 1899 Hoffenheim vs VfB Stuttgart
DESCRIPTION:WhenKickoff reminder for TSG 1899 Hoffenheim vs VfB Stuttgart
URL:https://whenkickoff.com/en/match/tsg-1899-hoffenheim-vs-vfb-stuttgart-540688/
BEGIN:VALARM
TRIGGER:-PT15M
ACTION:DISPLAY
DESCRIPTION:Match starts soon
END:VALARM
END:VEVENT
END:VCALENDAR
