BEGIN:VCALENDAR
VERSION:2.0
PRODID:-//WhenKickoff//Match Reminder//EN
BEGIN:VEVENT
UID:wk-540683-15@whenkickoff.com
DTSTAMP:20260419T192316Z
DTSTART:20260425T133000Z
DTEND:20260425T153000Z
SUMMARY:1. FC Heidenheim 1846 vs FC St. Pauli 1910
DESCRIPTION:WhenKickoff reminder for 1. FC Heidenheim 1846 vs FC St. Pauli 1910
URL:https://whenkickoff.com/en/match/1-fc-heidenheim-1846-vs-fc-st-pauli-1910-540683/
BEGIN:VALARM
TRIGGER:-PT15M
ACTION:DISPLAY
DESCRIPTION:Match starts soon
END:VALARM
END:VEVENT
END:VCALENDAR
