BEGIN:VCALENDAR
VERSION:2.0
PRODID:-//WhenKickoff//Match Reminder//EN
BEGIN:VEVENT
UID:wk-540680-15@whenkickoff.com
DTSTAMP:20260419T173005Z
DTSTART:20260426T133000Z
DTEND:20260426T153000Z
SUMMARY:VfB Stuttgart vs SV Werder Bremen
DESCRIPTION:WhenKickoff reminder for VfB Stuttgart vs SV Werder Bremen
URL:https://whenkickoff.com/en/match/vfb-stuttgart-vs-sv-werder-bremen-540680/
BEGIN:VALARM
TRIGGER:-PT15M
ACTION:DISPLAY
DESCRIPTION:Match starts soon
END:VALARM
END:VEVENT
END:VCALENDAR
