BEGIN:VCALENDAR
VERSION:2.0
PRODID:-//WhenKickoff//Match Reminder//EN
BEGIN:VEVENT
UID:wk-540676-15@whenkickoff.com
DTSTAMP:20260419T220106Z
DTSTART:20260425T133000Z
DTEND:20260425T153000Z
SUMMARY:1. FSV Mainz 05 vs FC Bayern München
DESCRIPTION:WhenKickoff reminder for 1. FSV Mainz 05 vs FC Bayern München
URL:https://whenkickoff.com/en/match/1-fsv-mainz-05-vs-fc-bayern-m-nchen-540676/
BEGIN:VALARM
TRIGGER:-PT15M
ACTION:DISPLAY
DESCRIPTION:Match starts soon
END:VALARM
END:VEVENT
END:VCALENDAR
